BEGIN:VCALENDAR
VERSION:2.0
PRODID:-//Perfectly Schepp - ECPv6.15.20//NONSGML v1.0//EN
CALSCALE:GREGORIAN
METHOD:PUBLISH
X-WR-CALNAME:Perfectly Schepp
X-ORIGINAL-URL:https://perfectlyschepp.com
X-WR-CALDESC:Events for Perfectly Schepp
REFRESH-INTERVAL;VALUE=DURATION:PT1H
X-Robots-Tag:noindex
X-PUBLISHED-TTL:PT1H
BEGIN:VTIMEZONE
TZID:UTC
BEGIN:STANDARD
TZOFFSETFROM:+0000
TZOFFSETTO:+0000
TZNAME:UTC
DTSTART:20250101T000000
END:STANDARD
END:VTIMEZONE
BEGIN:VEVENT
DTSTART;TZID=UTC:20260430T170000
DTEND;TZID=UTC:20260430T181500
DTSTAMP:20260424T152543
CREATED:20260210T201122Z
LAST-MODIFIED:20260213T131713Z
UID:893-1777568400-1777572900@perfectlyschepp.com
SUMMARY:Online Yin Yoga Class
DESCRIPTION:📍   Online via Zoom⏰   17:00 – 18:15💶    20 € \n\n\n\nPlease Note:This class will only take place if at least 2 participants register.You will be notified by email 24 hours before the class if it is canceled due to low participation \n\n\n\nBooking Options:  \n\n\n\n\nSingle Class\n\n\n\n5-Class Pass\n\n\n\n10-Class Pass
URL:https://perfectlyschepp.com/event/online-yin-yoga-class/
ATTACH;FMTTYPE=image/jpeg:https://perfectlyschepp.com/wp-content/uploads/2026/02/DSCF0332-copy.jpg
END:VEVENT
END:VCALENDAR